BEGIN:VCALENDAR
VERSION:2.0
PRODID:-//www.thearcfamilyinstitute.org//NONSGML kigkonsult.se iCalcreator 
 2.30.10//
CALSCALE:GREGORIAN
METHOD:PUBLISH
UID:b8110dc8-b681-4f30-89c5-0468276de9bc
X-WR-CALDESC:Come learn about: \nHealth &\nWellness\nChild Safety\nPositive
  \nDiscipline\nStrengthening the Family\n\nLight Dinner will be Served\nFr
 ee Child Care (Must be Toilet Trained)\n- For Childcare\, you must registe
 r by May 8th
X-WR-RELCALID:5c0930299a870e76c2cf56a3497ead02
X-WR-TIMEZONE:America/New_York
BEGIN:VTIMEZONE
TZID:America/New_York
BEGIN:STANDARD
TZNAME:EST
DTSTART:20141102T020000
TZOFFSETFROM:-0400
TZOFFSETTO:-0500
RDATE:20151101T020000
RDATE:20161106T020000
END:STANDARD
BEGIN:DAYLIGHT
TZNAME:EDT
DTSTART:20150308T020000
TZOFFSETFROM:-0500
TZOFFSETTO:-0400
RDATE:20160313T020000
END:DAYLIGHT
END:VTIMEZONE
BEGIN:VEVENT
UID:70e66bab-6173-4329-a890-7efeeb9e3417
DTSTAMP:20260425T175328Z
DESCRIPTION:Come learn about: \nHealth &\nWellness\nChild Safety\nPositive 
 \nDiscipline\nStrengthening the Family\n\nLight Dinner will be Served\nFre
 e Child Care (Must be Toilet Trained)\n- For Childcare\, you must register
  by May 8th
DTSTART;TZID=America/New_York:20150519T180000
DTEND;TZID=America/New_York:20150519T210000
LOCATION:1036 N. Tuckahoe Rd.\, Williamstown\, NJ 08094
SUMMARY:The Arc Gloucester: Successful Parents = Happy Families”   Workshop
 —Come Ask the Experts
END:VEVENT
END:VCALENDAR
