BEGIN:VCALENDAR
VERSION:2.0
PRODID:-//www.thearcfamilyinstitute.org//NONSGML kigkonsult.se iCalcreator 
 2.30.10//
CALSCALE:GREGORIAN
METHOD:PUBLISH
UID:f861cbe6-eb44-4f67-910f-285b392c548d
X-WR-CALDESC:
X-WR-RELCALID:48396f2a3c37cc9f22e5d4bfafd42008
X-WR-TIMEZONE:America/New_York
BEGIN:VTIMEZONE
TZID:America/New_York
BEGIN:STANDARD
TZNAME:EST
DTSTART:20141102T020000
TZOFFSETFROM:-0400
TZOFFSETTO:-0500
RDATE:20151101T020000
RDATE:20161106T020000
END:STANDARD
BEGIN:DAYLIGHT
TZNAME:EDT
DTSTART:20150308T020000
TZOFFSETFROM:-0500
TZOFFSETTO:-0400
RDATE:20160313T020000
END:DAYLIGHT
END:VTIMEZONE
BEGIN:VEVENT
UID:7aa12991-4857-4711-9ef0-8bb3bc82bc1e
DTSTAMP:20260425T175303Z
DESCRIPTION:
DTSTART;TZID=America/New_York:20150517T110000
DTEND;TZID=America/New_York:20150517T140000
LOCATION:Lindenwold Memorial Park
SUMMARY:The Arc of Camden County:
END:VEVENT
END:VCALENDAR
