BEGIN:VCALENDAR
VERSION:2.0
PRODID:-//www.thearcfamilyinstitute.org//NONSGML kigkonsult.se iCalcreator 
 2.30.10//
CALSCALE:GREGORIAN
METHOD:PUBLISH
UID:d11fe589-7778-41b0-8b71-a69ae83da16b
X-WR-CALDESC:We will be discussing DDD's transition to a Fee For Service sy
 stem and its implications for those served.\n
X-WR-RELCALID:a3174b49a5ea2e486e01a2c42de3a01e
X-WR-TIMEZONE:America/New_York
BEGIN:VTIMEZONE
TZID:America/New_York
BEGIN:STANDARD
TZNAME:EST
DTSTART:20141102T020000
TZOFFSETFROM:-0400
TZOFFSETTO:-0500
RDATE:20151101T020000
RDATE:20161106T020000
END:STANDARD
BEGIN:DAYLIGHT
TZNAME:EDT
DTSTART:20150308T020000
TZOFFSETFROM:-0500
TZOFFSETTO:-0400
RDATE:20160313T020000
END:DAYLIGHT
END:VTIMEZONE
BEGIN:VEVENT
UID:6f57564d-33a7-412b-bef1-8975c4cfbb97
DTSTAMP:20260425T175516Z
DESCRIPTION:We will be discussing DDD's transition to a Fee For Service sys
 tem and its implications for those served.\n
DTSTART;TZID=America/New_York:20150513T180000
DTEND;TZID=America/New_York:20150513T193000
LOCATION:The Arc Kohler School\, 1137 Globe Avenue\, Mountainside\, NJ 0709
 0
SUMMARY:The Arc of Union: Family Forum Meeting
END:VEVENT
END:VCALENDAR
