BEGIN:VCALENDAR
VERSION:2.0
PRODID:-//www.thearcfamilyinstitute.org//NONSGML kigkonsult.se iCalcreator 
 2.30.10//
CALSCALE:GREGORIAN
METHOD:PUBLISH
UID:a8439a10-80a8-49ee-a4ec-21728051ec5b
X-WR-CALDESC:Has the thought of traveling with your friend or family member
  with special needs seemed a daunting task? Join The Arc of NJ Family Inst
 itute for this informative webinar that will take some of the concerns out
  of traveling with someone with a disability. \n\nJesemine Jones and Ida K
 eiper are co-founders of the Starbrite Kids Program and Starry Night Trave
 l\, LLC\, a travel agency that specializes in planning travel for individu
 als with special needs. They are also authors to three special needs trave
 l books. \n\nIda Keiper is dually certified as Teacher of the Handicapped 
 and Elementary School Education. She earned a B.A. from Georgian Court Uni
 versity. Ms. Keiper educated children with disabilities for thirty years\,
  wrote district curriculum for special education\, and was a coordinator o
 f the special education department in a New Jersey public school. \n\nJese
 mine Jones earned a Masters of Social Work from Rutgers University as well
  as a B.A. in Special Education from Georgian Court University. She is cur
 rently a social worker in the New Jersey public school system. Ms. Jones w
 as a former special education teacher\, mental health therapist\, lead cou
 nselor of a therapeutic foster care program\, and team leader for an alter
 native high school for classified students.​
X-WR-RELCALID:5c0cb0e354e40f86bcb16504a075847a
X-WR-TIMEZONE:America/New_York
BEGIN:VTIMEZONE
TZID:America/New_York
BEGIN:STANDARD
TZNAME:EST
DTSTART:20141102T020000
TZOFFSETFROM:-0400
TZOFFSETTO:-0500
RDATE:20151101T020000
RDATE:20161106T020000
END:STANDARD
BEGIN:DAYLIGHT
TZNAME:EDT
DTSTART:20150308T020000
TZOFFSETFROM:-0500
TZOFFSETTO:-0400
RDATE:20160313T020000
END:DAYLIGHT
END:VTIMEZONE
BEGIN:VEVENT
UID:60e9523e-f83c-431d-9ea7-87e92cca45a6
DTSTAMP:20260425T175335Z
DESCRIPTION:Has the thought of traveling with your friend or family member 
 with special needs seemed a daunting task? Join The Arc of NJ Family Insti
 tute for this informative webinar that will take some of the concerns out 
 of traveling with someone with a disability. \n\nJesemine Jones and Ida Ke
 iper are co-founders of the Starbrite Kids Program and Starry Night Travel
 \, LLC\, a travel agency that specializes in planning travel for individua
 ls with special needs. They are also authors to three special needs travel
  books. \n\nIda Keiper is dually certified as Teacher of the Handicapped a
 nd Elementary School Education. She earned a B.A. from Georgian Court Univ
 ersity. Ms. Keiper educated children with disabilities for thirty years\, 
 wrote district curriculum for special education\, and was a coordinator of
  the special education department in a New Jersey public school. \n\nJesem
 ine Jones earned a Masters of Social Work from Rutgers University as well 
 as a B.A. in Special Education from Georgian Court University. She is curr
 ently a social worker in the New Jersey public school system. Ms. Jones wa
 s a former special education teacher\, mental health therapist\, lead coun
 selor of a therapeutic foster care program\, and team leader for an altern
 ative high school for classified students.​
DTSTART;TZID=America/New_York:20150512T180000
DTEND;TZID=America/New_York:20150512T190000
LOCATION:
SUMMARY:Webinar: Yes You Can Take That Trip! Traveling with an individual w
 ith special needs
END:VEVENT
END:VCALENDAR
