BEGIN:VCALENDAR
VERSION:2.0
PRODID:-//www.thearcfamilyinstitute.org//NONSGML kigkonsult.se iCalcreator 
 2.30.10//
CALSCALE:GREGORIAN
METHOD:PUBLISH
UID:c6d3d6f7-1d6a-42be-9409-3c0e9950297f
X-WR-CALDESC:he Arc Gloucester's annual Step Up for The Arc 5K Run & Walkat
 hon will be held on May 9\, 2015!  8:00 am registration\, 9:00 am 5K Run a
 nd Walkathon begin.  Both activities will start and end on the grounds of 
 Camp Sun 'N Fun.  Family Fun Day activities include a 50 yard dash\, healt
 h fair\, music\, moon bounce\, face painting\, crafts\, games and more!
X-WR-RELCALID:025a8e4910738dc18044390eb050006a
X-WR-TIMEZONE:America/New_York
BEGIN:VTIMEZONE
TZID:America/New_York
BEGIN:STANDARD
TZNAME:EST
DTSTART:20141102T020000
TZOFFSETFROM:-0400
TZOFFSETTO:-0500
RDATE:20151101T020000
RDATE:20161106T020000
END:STANDARD
BEGIN:DAYLIGHT
TZNAME:EDT
DTSTART:20150308T020000
TZOFFSETFROM:-0500
TZOFFSETTO:-0400
RDATE:20160313T020000
END:DAYLIGHT
END:VTIMEZONE
BEGIN:VEVENT
UID:0b14c879-9b84-4cc9-849a-7d06af88231b
DTSTAMP:20260425T174155Z
DESCRIPTION:he Arc Gloucester's annual Step Up for The Arc 5K Run & Walkath
 on will be held on May 9\, 2015!  8:00 am registration\, 9:00 am 5K Run an
 d Walkathon begin.  Both activities will start and end on the grounds of C
 amp Sun 'N Fun.  Family Fun Day activities include a 50 yard dash\, health
  fair\, music\, moon bounce\, face painting\, crafts\, games and more!
DTSTART;TZID=America/New_York:20150509T080000
DTEND;TZID=America/New_York:20150509T130000
LOCATION:Camp Sun 'N Fun  1036 N. Tuckahoe Road\, Williamstown\, NJ
SUMMARY:The Arc Gloucester:5K Run & Walkathon
END:VEVENT
END:VCALENDAR
