BEGIN:VCALENDAR
VERSION:2.0
PRODID:-//www.thearcfamilyinstitute.org//NONSGML kigkonsult.se iCalcreator 
 2.30.10//
CALSCALE:GREGORIAN
METHOD:PUBLISH
UID:7e7e81cc-4283-42df-b54a-e26596abdf50
X-WR-CALDESC:Join the Regional Family Support Planning Council for this inf
 ormative event!\nLearn what services are available from state \napproved p
 roviders\nLearn how to the receive services that your loved one needs\nBec
 ome informed about the changes that are coming to the adult service delive
 ry system\n Become an effective advocate for your family member\nMeet othe
 r families and exchange ideas\, knowledge and \nexperiences\n\nGuest Speak
 ers\nDaniel J. Keating\, PhD.\, Executive Director\, Alliance for the Bett
 erment of Citizens with Disabilities \nDonna Bouclier\, Senior Policy Anal
 yst\, Alliance for the \nBetterment of Citizens with Disabilities\nLisa Fo
 rd\, Director\, The Arc of New Jersey Family Institute\nValerie Sellers\, 
 CEO \, New Jersey Association of Community Providers
X-WR-RELCALID:c73843898d6a283891369c12e698209c
X-WR-TIMEZONE:America/New_York
BEGIN:VTIMEZONE
TZID:America/New_York
BEGIN:STANDARD
TZNAME:EST
DTSTART:20141102T020000
TZOFFSETFROM:-0400
TZOFFSETTO:-0500
RDATE:20151101T020000
RDATE:20161106T020000
END:STANDARD
BEGIN:DAYLIGHT
TZNAME:EDT
DTSTART:20150308T020000
TZOFFSETFROM:-0500
TZOFFSETTO:-0400
RDATE:20160313T020000
END:DAYLIGHT
END:VTIMEZONE
BEGIN:VEVENT
UID:153bd7b6-296a-42c7-bf87-00273f8a9e3e
DTSTAMP:20260425T175337Z
DESCRIPTION:Join the Regional Family Support Planning Council for this info
 rmative event!\nLearn what services are available from state \napproved pr
 oviders\nLearn how to the receive services that your loved one needs\nBeco
 me informed about the changes that are coming to the adult service deliver
 y system\n Become an effective advocate for your family member\nMeet other
  families and exchange ideas\, knowledge and \nexperiences\n\nGuest Speake
 rs\nDaniel J. Keating\, PhD.\, Executive Director\, Alliance for the Bette
 rment of Citizens with Disabilities \nDonna Bouclier\, Senior Policy Analy
 st\, Alliance for the \nBetterment of Citizens with Disabilities\nLisa For
 d\, Director\, The Arc of New Jersey Family Institute\nValerie Sellers\, C
 EO \, New Jersey Association of Community Providers
DTSTART;TZID=America/New_York:20150509T093000
DTEND;TZID=America/New_York:20150509T130000
LOCATION:Raritan Valley Academy 1690 Stelton Rd\, Piscataway Township\, 088
 54
SUMMARY:Public Forum for Caregivers of Individuals with Developmental Disab
 ilities
END:VEVENT
END:VCALENDAR
