BEGIN:VCALENDAR
VERSION:2.0
PRODID:-//www.thearcfamilyinstitute.org//NONSGML kigkonsult.se iCalcreator 
 2.30.10//
CALSCALE:GREGORIAN
METHOD:PUBLISH
UID:f53fb1fa-2cd3-4833-85e1-9fbfca726044
X-WR-CALDESC:AGENDA\n\n3:00-3:15 Refreshments and tour of \nexhibit tables
 \n\n3:15-3:30 Welcome and Introductions: Shari White\, Asst. Executive Dir
 ector\n\n3:30-3:45  Introduction of Arc Middlesex County Services\n\n3:45–
  4:15  Jerisa Maseko\, The Arc of NJ\n\n4:15-4:45 Lisa Ford\, The Arc of N
 J\n\n4:45-5:15   Special Presentation from the Black Horse Career Center (
 Joe Bien) \n\n5:30-6:00  “Meet and Greet” with Support Coordinators\; Q an
 d A
X-WR-RELCALID:7f4cb0b429deeec717b56659af2006f2
X-WR-TIMEZONE:America/New_York
BEGIN:VTIMEZONE
TZID:America/New_York
BEGIN:STANDARD
TZNAME:EST
DTSTART:20141102T020000
TZOFFSETFROM:-0400
TZOFFSETTO:-0500
RDATE:20151101T020000
END:STANDARD
BEGIN:DAYLIGHT
TZNAME:EDT
DTSTART:20150308T020000
TZOFFSETFROM:-0500
TZOFFSETTO:-0400
RDATE:20160313T020000
END:DAYLIGHT
END:VTIMEZONE
BEGIN:VEVENT
UID:efaefe95-f432-420c-9b3d-aec243d8dd75
DTSTAMP:20260425T175338Z
DESCRIPTION:AGENDA\n\n3:00-3:15 Refreshments and tour of \nexhibit tables\n
 \n3:15-3:30 Welcome and Introductions: Shari White\, Asst. Executive Direc
 tor\n\n3:30-3:45  Introduction of Arc Middlesex County Services\n\n3:45– 4
 :15  Jerisa Maseko\, The Arc of NJ\n\n4:15-4:45 Lisa Ford\, The Arc of NJ
 \n\n4:45-5:15   Special Presentation from the Black Horse Career Center (J
 oe Bien) \n\n5:30-6:00  “Meet and Greet” with Support Coordinators\; Q and
  A
DTSTART;TZID=America/New_York:20150507T150000
DTEND;TZID=America/New_York:20150507T180000
LOCATION:Black Horse Career Center 219 Black Horse Lane\, North Brunswick\,
  NJ 08902
SUMMARY:The Arc of Middlesex County: OPEN HOUSE and RESOURCE FAIR
END:VEVENT
END:VCALENDAR
