BEGIN:VCALENDAR
VERSION:2.0
PRODID:-//www.thearcfamilyinstitute.org//NONSGML kigkonsult.se iCalcreator 
 2.30.10//
CALSCALE:GREGORIAN
METHOD:PUBLISH
UID:a29e9ff4-a942-46e7-907a-7c4eb50263df
X-WR-CALDESC:
X-WR-RELCALID:95049921933461f72b5708831f172014
X-WR-TIMEZONE:America/New_York
BEGIN:VTIMEZONE
TZID:America/New_York
BEGIN:STANDARD
TZNAME:EST
DTSTART:20141102T020000
TZOFFSETFROM:-0400
TZOFFSETTO:-0500
RDATE:20151101T020000
END:STANDARD
BEGIN:DAYLIGHT
TZNAME:EDT
DTSTART:20150308T020000
TZOFFSETFROM:-0500
TZOFFSETTO:-0400
RDATE:20160313T020000
END:DAYLIGHT
END:VTIMEZONE
BEGIN:VEVENT
UID:150b450c-fd47-4a4a-9d2c-4393f7dfa76d
DTSTAMP:20260425T175432Z
DESCRIPTION:
DTSTART;TZID=America/New_York:20150504T183000
DTEND;TZID=America/New_York:20150504T200000
LOCATION:The Arc of Cape May County Administrative Office\, 822 Route 47\, 
 South Dennis\, NJ 08245
SUMMARY:The Arc of Cape May: Annual Meeting and Employee Recognition
END:VEVENT
END:VCALENDAR
