BEGIN:VCALENDAR
VERSION:2.0
PRODID:-//www.thearcfamilyinstitute.org//NONSGML kigkonsult.se iCalcreator 
 2.30.10//
CALSCALE:GREGORIAN
METHOD:PUBLISH
UID:83d6b587-0503-4453-b078-682652242c04
X-WR-CALDESC:Supportive Sibling Workshop for typical siblings of individual
 s with disabilities ages 7-12. This FREE group will be facilitated by a si
 bling and social worker who has volunteered her time and is on the Board o
 f Directors of SIBS NJ. The hour will consist of peer support in a recreat
 ional context for siblings to get to know other siblings as well as a crea
 tive activity to discuss their sibling experiences and feelings. A Present
 ation will be provided at the same time for parents/guardians (in an adjac
 ent training room) about how they can support their typical children.
X-WR-RELCALID:6dd6b1878077144ec3357edc2b405286
X-WR-TIMEZONE:America/New_York
BEGIN:VTIMEZONE
TZID:America/New_York
BEGIN:STANDARD
TZNAME:EST
DTSTART:20141102T020000
TZOFFSETFROM:-0400
TZOFFSETTO:-0500
RDATE:20151101T020000
END:STANDARD
BEGIN:DAYLIGHT
TZNAME:EDT
DTSTART:20150308T020000
TZOFFSETFROM:-0500
TZOFFSETTO:-0400
RDATE:20160313T020000
END:DAYLIGHT
END:VTIMEZONE
BEGIN:VEVENT
UID:fc931b97-4cd5-4266-ae57-b465abf69eb8
DTSTAMP:20260425T175433Z
DESCRIPTION:Supportive Sibling Workshop for typical siblings of individuals
  with disabilities ages 7-12. This FREE group will be facilitated by a sib
 ling and social worker who has volunteered her time and is on the Board of
  Directors of SIBS NJ. The hour will consist of peer support in a recreati
 onal context for siblings to get to know other siblings as well as a creat
 ive activity to discuss their sibling experiences and feelings. A Presenta
 tion will be provided at the same time for parents/guardians (in an adjace
 nt training room) about how they can support their typical children.
DTSTART;TZID=America/New_York:20150503T120000
DTEND;TZID=America/New_York:20150503T130000
LOCATION:The Arc's Central Bergen Employment & Training Center\, 17 Wallace
  St.\, Elmwood Park\, NJ 07407
SUMMARY:The Arc of Bergen & Passaic: Supportive Sibling Workshop for Childr
 en & Parents
END:VEVENT
END:VCALENDAR
