BEGIN:VCALENDAR
VERSION:2.0
PRODID:-//www.thearcfamilyinstitute.org//NONSGML kigkonsult.se iCalcreator 
 2.30.10//
CALSCALE:GREGORIAN
METHOD:PUBLISH
UID:e9392d3f-351e-4153-b949-a7b4b4deac67
X-WR-CALDESC:Supportive Sibling Workshop for typical siblings of individual
 s with disabilities ages 18+. This FREE group will be facilitated by a sib
 ling and social worker who has volunteered. The hour will be an opportunit
 y for siblings of individuals with disabilities to meet other siblings and
  discuss some of their experiences\, challenges and concerns.
X-WR-RELCALID:5867a67ce8dfee2fec380f8eaeed482d
X-WR-TIMEZONE:America/New_York
BEGIN:VTIMEZONE
TZID:America/New_York
BEGIN:STANDARD
TZNAME:EST
DTSTART:20141102T020000
TZOFFSETFROM:-0400
TZOFFSETTO:-0500
RDATE:20151101T020000
END:STANDARD
BEGIN:DAYLIGHT
TZNAME:EDT
DTSTART:20150308T020000
TZOFFSETFROM:-0500
TZOFFSETTO:-0400
RDATE:20160313T020000
END:DAYLIGHT
END:VTIMEZONE
BEGIN:VEVENT
UID:4c26464a-7c21-494a-a758-163a6d627a18
DTSTAMP:20260425T175601Z
DESCRIPTION:Supportive Sibling Workshop for typical siblings of individuals
  with disabilities ages 18+. This FREE group will be facilitated by a sibl
 ing and social worker who has volunteered. The hour will be an opportunity
  for siblings of individuals with disabilities to meet other siblings and 
 discuss some of their experiences\, challenges and concerns.
DTSTART;TZID=America/New_York:20150503T140000
DTEND;TZID=America/New_York:20150503T150000
LOCATION:The Arc's Central Bergen Employment & Training Center\, 17 Wallace
  St.\, Elmwood Park\, NJ 07407
SUMMARY:The Arc of Bergen & Passaic: Adult Sibling Workshop (Ages 18+) Sibl
 ings of Individuals with Disabilities
END:VEVENT
END:VCALENDAR
