BEGIN:VCALENDAR
VERSION:2.0
PRODID:-//www.thearcfamilyinstitute.org//NONSGML kigkonsult.se iCalcreator 
 2.30.10//
CALSCALE:GREGORIAN
METHOD:PUBLISH
UID:0c28f98b-c81e-478a-b659-26a31e5e1c93
X-WR-CALDESC:After sitting all winter\, volunteers are needed to plant flow
 ers\,rake\, paint\, clean and prepare camp for the 2015 season. There will
  be plenty to do with lunch and light refreshments provided. Don’t miss th
 is great opportunity to show your support and enjoy time with family and f
 riends. Bring your own garden tools and gloves or use ours. Better yet\, m
 ake this a group project and bring out your team\, club\, co-workers or or
 ganization! Imagine the fun together as you spruce up camp... \n\nCamp Sun
  ‘N Fun is a day and residential camp serving the needs of individuals wit
 h developmental disabilities and their families through quality programs t
 hat increase self-esteem\, foster independence\, instill leadership skills
  and so much more.
X-WR-RELCALID:9fcf8336e35c3d7e3cdcacd6f9e0617a
X-WR-TIMEZONE:America/New_York
BEGIN:VTIMEZONE
TZID:America/New_York
BEGIN:STANDARD
TZNAME:EST
DTSTART:20141102T020000
TZOFFSETFROM:-0400
TZOFFSETTO:-0500
RDATE:20151101T020000
END:STANDARD
BEGIN:DAYLIGHT
TZNAME:EDT
DTSTART:20150308T020000
TZOFFSETFROM:-0500
TZOFFSETTO:-0400
RDATE:20160313T020000
END:DAYLIGHT
END:VTIMEZONE
BEGIN:VEVENT
UID:8e311f3e-683a-45b4-80ce-a6e8be7801c6
DTSTAMP:20260425T175328Z
DESCRIPTION:After sitting all winter\, volunteers are needed to plant flowe
 rs\,rake\, paint\, clean and prepare camp for the 2015 season. There will 
 be plenty to do with lunch and light refreshments provided. Don’t miss thi
 s great opportunity to show your support and enjoy time with family and fr
 iends. Bring your own garden tools and gloves or use ours. Better yet\, ma
 ke this a group project and bring out your team\, club\, co-workers or org
 anization! Imagine the fun together as you spruce up camp... \n\nCamp Sun 
 ‘N Fun is a day and residential camp serving the needs of individuals with
  developmental disabilities and their families through quality programs th
 at increase self-esteem\, foster independence\, instill leadership skills 
 and so much more.
DTSTART;TZID=America/New_York:20150502T090000
DTEND;TZID=America/New_York:20150502T120000
LOCATION:1036 N. Tuckahoe Rd\, Williamstown\, NJ
SUMMARY:The Arc Gloucester: A Day of  Caring for   Camp Sun ‘N Fun
END:VEVENT
END:VCALENDAR
