BEGIN:VCALENDAR
VERSION:2.0
PRODID:-//www.thearcfamilyinstitute.org//NONSGML kigkonsult.se iCalcreator 
 2.30.10//
CALSCALE:GREGORIAN
METHOD:PUBLISH
UID:391e04e9-d925-48a3-acb8-08003807c94d
X-WR-CALDESC:Justice-Involved Individuals with Intellectual and Development
 al Disabilities: Addressing the Needs of Individuals who have a Developmen
 tal Disability and a Mental Illness\n\nIndividuals with Dual Diagnosis ten
 d to fall in a gray area of treatment.  Service providers\, law enforcemen
 t\, and mental health professionals are often unsure how to effectively in
 teract with this population.  As a result\, care for these individuals can
  be challenging.  This full-day conference will focus on providing an over
 view of Dual Diagnosis and effective methods of working with people with m
 ental health and developmental disabilities among social services\, law en
 forcement\, and other professionals in the field\n\nEarly Bird Registratio
 n: $15\, ends April 17\nGeneral Registration: $20\n\nScholarship: (limited
  availability--call before registering 732-246-2525 x36)
X-WR-RELCALID:850fd70a7d3e1abd7a66b50a9ae12397
X-WR-TIMEZONE:America/New_York
BEGIN:VTIMEZONE
TZID:America/New_York
BEGIN:STANDARD
TZNAME:EST
DTSTART:20141102T020000
TZOFFSETFROM:-0400
TZOFFSETTO:-0500
RDATE:20151101T020000
END:STANDARD
BEGIN:DAYLIGHT
TZNAME:EDT
DTSTART:20150308T020000
TZOFFSETFROM:-0500
TZOFFSETTO:-0400
RDATE:20160313T020000
END:DAYLIGHT
END:VTIMEZONE
BEGIN:VEVENT
UID:05a6c191-8c35-4153-a3df-bd93063d8292
DTSTAMP:20260425T190934Z
DESCRIPTION:Justice-Involved Individuals with Intellectual and Developmenta
 l Disabilities: Addressing the Needs of Individuals who have a Development
 al Disability and a Mental Illness\n\nIndividuals with Dual Diagnosis tend
  to fall in a gray area of treatment.  Service providers\, law enforcement
 \, and mental health professionals are often unsure how to effectively int
 eract with this population.  As a result\, care for these individuals can 
 be challenging.  This full-day conference will focus on providing an overv
 iew of Dual Diagnosis and effective methods of working with people with me
 ntal health and developmental disabilities among social services\, law enf
 orcement\, and other professionals in the field\n\nEarly Bird Registration
 : $15\, ends April 17\nGeneral Registration: $20\n\nScholarship: (limited 
 availability--call before registering 732-246-2525 x36)
DTSTART;TZID=America/New_York:20150430T090000
DTEND;TZID=America/New_York:20150430T163000
LOCATION:New Jersey Law Center\,  1 Constitution Square\, New Brunswick\, N
 J 08901
SUMMARY:The Arc of New Jersey Criminal Justice Advocacy Program: 2015 Equal
  Justice Conference
END:VEVENT
END:VCALENDAR
