BEGIN:VCALENDAR
VERSION:2.0
PRODID:-//www.thearcfamilyinstitute.org//NONSGML kigkonsult.se iCalcreator 
 2.30.10//
CALSCALE:GREGORIAN
METHOD:PUBLISH
UID:85349b8b-a3d0-45b2-b938-7b4bfeca9bfd
X-WR-CALDESC:Let’s discuss strategies to help you support your child throug
 h his/her challenging behaviors - Light lunch provided\n\nREGISTRATION REQ
 UIRED\n
X-WR-RELCALID:6548d8309d4e53e7a628e75af9581170
X-WR-TIMEZONE:America/New_York
BEGIN:VTIMEZONE
TZID:America/New_York
BEGIN:STANDARD
TZNAME:EST
DTSTART:20141102T020000
TZOFFSETFROM:-0400
TZOFFSETTO:-0500
RDATE:20151101T020000
END:STANDARD
BEGIN:DAYLIGHT
TZNAME:EDT
DTSTART:20150308T020000
TZOFFSETFROM:-0500
TZOFFSETTO:-0400
RDATE:20160313T020000
END:DAYLIGHT
END:VTIMEZONE
BEGIN:VEVENT
UID:94d05abc-86a6-459e-967a-e7f3365f813a
DTSTAMP:20260425T191005Z
DESCRIPTION:Let’s discuss strategies to help you support your child through
  his/her challenging behaviors - Light lunch provided\n\nREGISTRATION REQU
 IRED\n
DTSTART;TZID=America/New_York:20150429T120000
DTEND;TZID=America/New_York:20150429T133000
LOCATION:The Arc of Monmouth\, 1158 Wayside Road\, Tinton Falls\, NJ  07712
SUMMARY:The Arc of Monmouth: Special Education Series - The Parent/ Caregiv
 er Toolbox
END:VEVENT
END:VCALENDAR
