BEGIN:VCALENDAR
VERSION:2.0
PRODID:-//www.thearcfamilyinstitute.org//NONSGML kigkonsult.se iCalcreator 
 2.30.10//
CALSCALE:GREGORIAN
METHOD:PUBLISH
UID:bef9376f-d59c-4f39-80b2-39c7a9c00fbc
X-WR-CALDESC:Presented by 'Learn\, Empower & Advocate for the Developmental
 ly Disabled' or 'LEAD'\, a program of Rutgers Camden's Pro Bono Program\, 
 this free information session is for families caring for children and adul
 ts with disabilities about Early Intervention\, Supplemental Security Inco
 me (SSI)\, Department of Children & Families\, Division of Developmental D
 isabilities\, Medicaid\, and other resources available to them. This is an
  information session only. No individual cases will be discussed. No legal
  representation of any kind will be provided.
X-WR-RELCALID:a4a93c845d65bed3e6f13aef80edfceb
X-WR-TIMEZONE:America/New_York
BEGIN:VTIMEZONE
TZID:America/New_York
BEGIN:STANDARD
TZNAME:EST
DTSTART:20141102T020000
TZOFFSETFROM:-0400
TZOFFSETTO:-0500
RDATE:20151101T020000
END:STANDARD
BEGIN:DAYLIGHT
TZNAME:EDT
DTSTART:20150308T020000
TZOFFSETFROM:-0500
TZOFFSETTO:-0400
RDATE:20160313T020000
END:DAYLIGHT
END:VTIMEZONE
BEGIN:VEVENT
UID:8edc3cc0-4203-43d9-8875-8752ff3a241e
DTSTAMP:20260425T190934Z
DESCRIPTION:Presented by 'Learn\, Empower & Advocate for the Developmentall
 y Disabled' or 'LEAD'\, a program of Rutgers Camden's Pro Bono Program\, t
 his free information session is for families caring for children and adult
 s with disabilities about Early Intervention\, Supplemental Security Incom
 e (SSI)\, Department of Children & Families\, Division of Developmental Di
 sabilities\, Medicaid\, and other resources available to them. This is an 
 information session only. No individual cases will be discussed. No legal 
 representation of any kind will be provided.
DTSTART;TZID=America/New_York:20150427T190000
DTEND;TZID=America/New_York:20150427T200000
LOCATION:215 W. White Horse Pike\, Berlin\, NJ 08009
SUMMARY:The Arc of Camden County: Stakeholder's Meeting
END:VEVENT
END:VCALENDAR
