BEGIN:VCALENDAR
VERSION:2.0
PRODID:-//www.thearcfamilyinstitute.org//NONSGML kigkonsult.se iCalcreator 
 2.30.10//
CALSCALE:GREGORIAN
METHOD:PUBLISH
UID:f14cab87-11f7-46fa-a1d1-290d5f64e9cc
X-WR-CALDESC:All high school students face a number of decisions as they ma
 ke their transition from school to the unfamiliar adult world. For high sc
 hool students with developmental disabilities\, it is vital that this plan
 ning for adult life occur with the help of others and with as much informa
 tion as possible.\n\nHear from experienced parents and professionals in th
 e field addressing eight (8) core areas that students with intellectual an
 d developmental disabilities ages 14-21 and their families need to know to
  plan.
X-WR-RELCALID:2d7e0adbbe5b1c8f0d0ac2cff3eff4f0
X-WR-TIMEZONE:America/New_York
BEGIN:VTIMEZONE
TZID:America/New_York
BEGIN:STANDARD
TZNAME:EST
DTSTART:20141102T020000
TZOFFSETFROM:-0400
TZOFFSETTO:-0500
RDATE:20151101T020000
END:STANDARD
BEGIN:DAYLIGHT
TZNAME:EDT
DTSTART:20150308T020000
TZOFFSETFROM:-0500
TZOFFSETTO:-0400
RDATE:20160313T020000
END:DAYLIGHT
END:VTIMEZONE
BEGIN:VEVENT
UID:647a5f11-4393-4dd2-b8af-a7790be37232
DTSTAMP:20260425T191004Z
DESCRIPTION:All high school students face a number of decisions as they mak
 e their transition from school to the unfamiliar adult world. For high sch
 ool students with developmental disabilities\, it is vital that this plann
 ing for adult life occur with the help of others and with as much informat
 ion as possible.\n\nHear from experienced parents and professionals in the
  field addressing eight (8) core areas that students with intellectual and
  developmental disabilities ages 14-21 and their families need to know to 
 plan.
DTSTART;TZID=America/New_York:20150425T090000
DTEND;TZID=America/New_York:20150425T130000
LOCATION:Burlington County Emergency Services Training Center\,  53 Academy
  Drive\, Westampton\, NJ 08060
SUMMARY:Planning For Adult Life FREE Parent Forum and Opportunity Expo - So
 uth
END:VEVENT
END:VCALENDAR
