BEGIN:VCALENDAR
VERSION:2.0
PRODID:-//www.thearcfamilyinstitute.org//NONSGML kigkonsult.se iCalcreator 
 2.30.10//
CALSCALE:GREGORIAN
METHOD:PUBLISH
UID:ad98c2ec-90ad-45a1-a069-565fff0fcb23
X-WR-CALDESC:This is your opportunity to ask the experts questions about IE
 Ps\, 504 and I&RS.  Individual sessions will be offered by appointment – L
 ight refreshments provided\n (A collaborative presentation of The Arc of M
 onmouth and Family Based Services of NJ)\n\nREGISTRATION REQUIRED\n\n
X-WR-RELCALID:476fe5a1d3da0b6d8c3c41d75122b102
X-WR-TIMEZONE:America/New_York
BEGIN:VTIMEZONE
TZID:America/New_York
BEGIN:STANDARD
TZNAME:EST
DTSTART:20141102T020000
TZOFFSETFROM:-0400
TZOFFSETTO:-0500
RDATE:20151101T020000
END:STANDARD
BEGIN:DAYLIGHT
TZNAME:EDT
DTSTART:20150308T020000
TZOFFSETFROM:-0500
TZOFFSETTO:-0400
RDATE:20160313T020000
END:DAYLIGHT
END:VTIMEZONE
BEGIN:VEVENT
UID:7e7ed5cd-5154-4177-8c09-6e48dcedc1e4
DTSTAMP:20260425T190904Z
DESCRIPTION:This is your opportunity to ask the experts questions about IEP
 s\, 504 and I&RS.  Individual sessions will be offered by appointment – Li
 ght refreshments provided\n (A collaborative presentation of The Arc of Mo
 nmouth and Family Based Services of NJ)\n\nREGISTRATION REQUIRED\n\n
DTSTART;TZID=America/New_York:20150423T180000
DTEND;TZID=America/New_York:20150423T200000
LOCATION:The Arc of Monmouth\, 1158 Wayside Road\, Tinton Falls\, NJ  07712
SUMMARY:The Arc of Monmouth: Special Education Series - Special Education Q
  & A
END:VEVENT
END:VCALENDAR
