BEGIN:VCALENDAR
VERSION:2.0
PRODID:-//www.thearcfamilyinstitute.org//NONSGML kigkonsult.se iCalcreator 
 2.30.10//
CALSCALE:GREGORIAN
METHOD:PUBLISH
UID:b15479ec-c9cb-44bc-8aaf-947f070e8948
X-WR-CALDESC:SCARC\, Inc. is hosting a meeting for parents of children aged
  0 – 21 with\nguest speaker\, Elizabeth Manley\, LSW\, Director of the Chi
 ldren’s System of\nCare. \n\nShe will be presenting:\n“DCF Children’s Syst
 em of Care Overview”.\n
X-WR-RELCALID:5410644744a99b0b9f02407a0416bd52
X-WR-TIMEZONE:America/New_York
BEGIN:VTIMEZONE
TZID:America/New_York
BEGIN:STANDARD
TZNAME:EST
DTSTART:20141102T020000
TZOFFSETFROM:-0400
TZOFFSETTO:-0500
RDATE:20151101T020000
END:STANDARD
BEGIN:DAYLIGHT
TZNAME:EDT
DTSTART:20150308T020000
TZOFFSETFROM:-0500
TZOFFSETTO:-0400
RDATE:20160313T020000
END:DAYLIGHT
END:VTIMEZONE
BEGIN:VEVENT
UID:14b0d6a1-9d79-4f6c-9b2a-068f8fa22f60
DTSTAMP:20260425T190903Z
DESCRIPTION:SCARC\, Inc. is hosting a meeting for parents of children aged 
 0 – 21 with\nguest speaker\, Elizabeth Manley\, LSW\, Director of the Chil
 dren’s System of\nCare. \n\nShe will be presenting:\n“DCF Children’s Syste
 m of Care Overview”.\n
DTSTART;TZID=America/New_York:20150421T183000
DTEND;TZID=America/New_York:20150421T203000
LOCATION:SCARC’s Hampton Community Center 4 Camre Drive\, Newton\, NJ
SUMMARY:The Arc of Sussex (SCARC\, Inc.): Parent Seminar
END:VEVENT
END:VCALENDAR
