BEGIN:VCALENDAR
VERSION:2.0
PRODID:-//www.thearcfamilyinstitute.org//NONSGML kigkonsult.se iCalcreator 
 2.30.10//
CALSCALE:GREGORIAN
METHOD:PUBLISH
UID:dd223f69-ec54-42ff-9a69-bf10f3f79477
X-WR-CALDESC:The Employment First initiative presumes that people with disa
 bilities can and should work.  Let’s talk about employment as it relates t
 o you or your family member – Light lunch provided\n\nRegistration Require
 d.
X-WR-RELCALID:8c4b84ef92c18604527262eb7bc3637f
X-WR-TIMEZONE:America/New_York
BEGIN:VTIMEZONE
TZID:America/New_York
BEGIN:STANDARD
TZNAME:EST
DTSTART:20141102T020000
TZOFFSETFROM:-0400
TZOFFSETTO:-0500
RDATE:20151101T020000
END:STANDARD
BEGIN:DAYLIGHT
TZNAME:EDT
DTSTART:20150308T020000
TZOFFSETFROM:-0500
TZOFFSETTO:-0400
RDATE:20160313T020000
END:DAYLIGHT
END:VTIMEZONE
BEGIN:VEVENT
UID:79b127e7-7b1a-4c7d-8c80-e1634e37d4a8
DTSTAMP:20260425T190843Z
DESCRIPTION:The Employment First initiative presumes that people with disab
 ilities can and should work.  Let’s talk about employment as it relates to
  you or your family member – Light lunch provided\n\nRegistration Required
 .
DTSTART;TZID=America/New_York:20150416T120000
DTEND;TZID=America/New_York:20150416T133000
LOCATION:The Arc of Monmouth\, 1158 Wayside Road\, Tinton Falls\, NJ  07712
SUMMARY:The Arc of Monmouth: Transition to Adulthood Series - Employment Fi
 rst
END:VEVENT
END:VCALENDAR
