BEGIN:VCALENDAR
VERSION:2.0
PRODID:-//www.thearcfamilyinstitute.org//NONSGML kigkonsult.se iCalcreator 
 2.30.10//
CALSCALE:GREGORIAN
METHOD:PUBLISH
UID:c2fc1f40-69cf-4453-85f3-5276ac028035
X-WR-CALDESC:•	Learn about qualifying for SSI and/or SSDI\, the disability b
 enefits programs administered by Social Security Administration.  \n•	Who i
 s eligible for Medicaid and/or Medicare?   How does the coverage in these 
 two programs differ?  Why is Medicaid so important?  \n•	Who must enroll in
  Medicare D\, and how does one choose a plan? Light lunch provided\n\nRegi
 stration Required.
X-WR-RELCALID:64e6e22d15382f5148fcd2fedc0c220e
X-WR-TIMEZONE:America/New_York
BEGIN:VTIMEZONE
TZID:America/New_York
BEGIN:STANDARD
TZNAME:EST
DTSTART:20141102T020000
TZOFFSETFROM:-0400
TZOFFSETTO:-0500
RDATE:20151101T020000
END:STANDARD
BEGIN:DAYLIGHT
TZNAME:EDT
DTSTART:20150308T020000
TZOFFSETFROM:-0500
TZOFFSETTO:-0400
RDATE:20160313T020000
END:DAYLIGHT
END:VTIMEZONE
BEGIN:VEVENT
UID:eddafe37-90a1-4abd-8d62-ff989369f201
DTSTAMP:20260425T191032Z
DESCRIPTION:•	Learn about qualifying for SSI and/or SSDI\, the disability be
 nefits programs administered by Social Security Administration.  \n•	Who is
  eligible for Medicaid and/or Medicare?   How does the coverage in these t
 wo programs differ?  Why is Medicaid so important?  \n•	Who must enroll in 
 Medicare D\, and how does one choose a plan? Light lunch provided\n\nRegis
 tration Required.
DTSTART;TZID=America/New_York:20150402T120000
DTEND;TZID=America/New_York:20150402T133000
LOCATION:The Arc of Monmouth\, 1158 Wayside Road\, Tinton Falls\, NJ  07712
SUMMARY:The Arc of Monmouth: Transition to Adulthood Series - The ABCs of A
 dult Disability Benefits
END:VEVENT
END:VCALENDAR
