BEGIN:VCALENDAR
VERSION:2.0
PRODID:-//www.thearcfamilyinstitute.org//NONSGML kigkonsult.se iCalcreator 
 2.30.10//
CALSCALE:GREGORIAN
METHOD:PUBLISH
UID:88b3cf5b-2e36-4266-bc04-a052d533e0f0
X-WR-CALDESC:Why are assessments important when planning for services for c
 hildren and adults with intellectual and developmental disabilities? How s
 hould families approach them? \n\nIn this informative webinar\, team membe
 rs from The Community Living Education Project (CLEP) will form a panel to
  discuss how assessments fit into the service delivery system in New Jerse
 y. Most importantly\, you will learn how to approach the assessment proces
 s in order to provide an accurate picture of support needs. The panel will
  also share their personal stories and experiences. \n\nCommunity Living E
 ducation Project Presenters: \nDavid Wright\, PhD - Project Director \nNat
 alie Trump\, BS - Training and Consultation Specialist \nAnn Martinelli\, 
 BA - Training Specialist \nSheilah Garry - Training Specialist \n\nThis we
 binar is hosted by Planning for Adult Life\, a special program of The Arc 
 of New Jersey
X-WR-RELCALID:6f43f3f7f6b4b1a3ed989e5fa1ab47cf
X-WR-TIMEZONE:America/New_York
BEGIN:VTIMEZONE
TZID:America/New_York
BEGIN:STANDARD
TZNAME:EST
DTSTART:20141102T020000
TZOFFSETFROM:-0400
TZOFFSETTO:-0500
RDATE:20151101T020000
END:STANDARD
BEGIN:DAYLIGHT
TZNAME:EDT
DTSTART:20150308T020000
TZOFFSETFROM:-0500
TZOFFSETTO:-0400
RDATE:20160313T020000
END:DAYLIGHT
END:VTIMEZONE
BEGIN:VEVENT
UID:772ae0fb-59bd-4da6-87e4-c7a56cbdde07
DTSTAMP:20260425T202555Z
DESCRIPTION:Why are assessments important when planning for services for ch
 ildren and adults with intellectual and developmental disabilities? How sh
 ould families approach them? \n\nIn this informative webinar\, team member
 s from The Community Living Education Project (CLEP) will form a panel to 
 discuss how assessments fit into the service delivery system in New Jersey
 . Most importantly\, you will learn how to approach the assessment process
  in order to provide an accurate picture of support needs. The panel will 
 also share their personal stories and experiences. \n\nCommunity Living Ed
 ucation Project Presenters: \nDavid Wright\, PhD - Project Director \nNata
 lie Trump\, BS - Training and Consultation Specialist \nAnn Martinelli\, B
 A - Training Specialist \nSheilah Garry - Training Specialist \n\nThis web
 inar is hosted by Planning for Adult Life\, a special program of The Arc o
 f New Jersey
DTSTART;TZID=America/New_York:20150331T180000
DTEND;TZID=America/New_York:20150331T190000
LOCATION:
SUMMARY:ASSESSMENTS: Why They Are Important and How Families Should Approac
 h Them
END:VEVENT
END:VCALENDAR
