BEGIN:VCALENDAR
VERSION:2.0
PRODID:-//www.thearcfamilyinstitute.org//NONSGML kigkonsult.se iCalcreator 
 2.30.10//
CALSCALE:GREGORIAN
METHOD:PUBLISH
UID:024ea53b-8a2e-427c-bf30-5c8fe4b9e99c
X-WR-CALDESC:DDD recommends selecting a support coordinator prior to May.  
 Support Coordination agencies will be on hand to answer your questions and
  help you make an informed decision. – Light refreshments provided.\n\nReg
 istration Required.
X-WR-RELCALID:f4ca7beef668da2646e4122ba063efda
X-WR-TIMEZONE:America/New_York
BEGIN:VTIMEZONE
TZID:America/New_York
BEGIN:STANDARD
TZNAME:EST
DTSTART:20141102T020000
TZOFFSETFROM:-0400
TZOFFSETTO:-0500
RDATE:20151101T020000
END:STANDARD
BEGIN:DAYLIGHT
TZNAME:EDT
DTSTART:20150308T020000
TZOFFSETFROM:-0500
TZOFFSETTO:-0400
RDATE:20160313T020000
END:DAYLIGHT
END:VTIMEZONE
BEGIN:VEVENT
UID:836d989b-1f51-469d-b79c-66ba75494a4b
DTSTAMP:20260425T202449Z
DESCRIPTION:DDD recommends selecting a support coordinator prior to May.  S
 upport Coordination agencies will be on hand to answer your questions and 
 help you make an informed decision. – Light refreshments provided.\n\nRegi
 stration Required.
DTSTART;TZID=America/New_York:20150326T150000
DTEND;TZID=America/New_York:20150326T180000
LOCATION:The Arc of Monmouth\, 1158 Wayside Road\, Tinton Falls\, NJ  07712
SUMMARY:The Arc of Monmouth: Transition to Adulthood Series - Meet the Supp
 ort Coordinators
END:VEVENT
END:VCALENDAR
