BEGIN:VCALENDAR
VERSION:2.0
PRODID:-//www.thearcfamilyinstitute.org//NONSGML kigkonsult.se iCalcreator 
 2.30.10//
CALSCALE:GREGORIAN
METHOD:PUBLISH
UID:49a1897d-b52e-419a-b4d2-4cbd2719a9ce
X-WR-CALDESC:Public Meeting with Guest Speaker: Dawn Apgar\, Deputy Commiss
 ioner\, Division of Developmental Disabilities (DDD)\n\nTOPICS:\nTransitio
 ning into the adult world  \nMedicaid eligibility\nThe Supports Program
X-WR-RELCALID:301e2825b4d345fbbe58837a41ecf18d
X-WR-TIMEZONE:America/New_York
BEGIN:VTIMEZONE
TZID:America/New_York
BEGIN:STANDARD
TZNAME:EST
DTSTART:20141102T020000
TZOFFSETFROM:-0400
TZOFFSETTO:-0500
RDATE:20151101T020000
END:STANDARD
BEGIN:DAYLIGHT
TZNAME:EDT
DTSTART:20150308T020000
TZOFFSETFROM:-0500
TZOFFSETTO:-0400
RDATE:20160313T020000
END:DAYLIGHT
END:VTIMEZONE
BEGIN:VEVENT
UID:0202813f-546a-4c4f-bd42-0c19e09a5312
DTSTAMP:20260425T202145Z
DESCRIPTION:Public Meeting with Guest Speaker: Dawn Apgar\, Deputy Commissi
 oner\, Division of Developmental Disabilities (DDD)\n\nTOPICS:\nTransition
 ing into the adult world  \nMedicaid eligibility\nThe Supports Program
DTSTART;TZID=America/New_York:20150325T183000
DTEND;TZID=America/New_York:20150325T200000
LOCATION:Toms River Town Hall\, 33 Washington Street\, Toms River\, 08753\,
  Hirschblond Room
SUMMARY:TOMS RIVER MAYOR’S ADVISORY COMMITTEE ON DEVELOPMENTAL DISABILITIES
END:VEVENT
END:VCALENDAR
