BEGIN:VCALENDAR
VERSION:2.0
PRODID:-//www.thearcfamilyinstitute.org//NONSGML kigkonsult.se iCalcreator 
 2.30.10//
CALSCALE:GREGORIAN
METHOD:PUBLISH
UID:2d9be533-03db-4800-8062-38057e535c29
X-WR-CALDESC:
X-WR-RELCALID:4c4dc32fed91133fcae151fa014d4940
X-WR-TIMEZONE:America/New_York
BEGIN:VTIMEZONE
TZID:America/New_York
BEGIN:STANDARD
TZNAME:EST
DTSTART:20141102T020000
TZOFFSETFROM:-0400
TZOFFSETTO:-0500
RDATE:20151101T020000
END:STANDARD
BEGIN:DAYLIGHT
TZNAME:EDT
DTSTART:20150308T020000
TZOFFSETFROM:-0500
TZOFFSETTO:-0400
RDATE:20160313T020000
END:DAYLIGHT
END:VTIMEZONE
BEGIN:VEVENT
UID:950d5e79-13de-4aa3-b81d-751df28c26d1
DTSTAMP:20260425T202613Z
DESCRIPTION:
DTSTART;TZID=America/New_York:20150324T190000
DTEND;TZID=America/New_York:20150324T203000
LOCATION:Hampton Community Center\, 4 Camre Dr.\, Newton
SUMMARY:Sussex County Arc (SCARC): Look to the Future - Transition from Sch
 ool to Adult Life
END:VEVENT
END:VCALENDAR
