BEGIN:VCALENDAR
VERSION:2.0
PRODID:-//www.thearcfamilyinstitute.org//NONSGML kigkonsult.se iCalcreator 
 2.30.10//
CALSCALE:GREGORIAN
METHOD:PUBLISH
UID:914a0822-be3d-45a9-ba40-a4d141a43652
X-WR-CALDESC:In the spring\, class of 2015 graduates will be asked to choos
 e a support coordination agency to assist them with connecting and accessi
 ng adult services as they transition out of the education system. \n\nJoin
  us for a “Meet the Support Coordination Agencies” event to meet the agenc
 ies currently servicing Essex County to make the best choice for your futu
 re and family. A light dinner will be served.
X-WR-RELCALID:b9350e91f690eb4e1b0b2f06fa14f096
X-WR-TIMEZONE:America/New_York
BEGIN:VTIMEZONE
TZID:America/New_York
BEGIN:STANDARD
TZNAME:EST
DTSTART:20141102T020000
TZOFFSETFROM:-0400
TZOFFSETTO:-0500
RDATE:20151101T020000
END:STANDARD
BEGIN:DAYLIGHT
TZNAME:EDT
DTSTART:20150308T020000
TZOFFSETFROM:-0500
TZOFFSETTO:-0400
RDATE:20160313T020000
END:DAYLIGHT
END:VTIMEZONE
BEGIN:VEVENT
UID:4ca0bc75-c2bc-43dd-be90-b16d8645fcac
DTSTAMP:20260425T202832Z
DESCRIPTION:In the spring\, class of 2015 graduates will be asked to choose
  a support coordination agency to assist them with connecting and accessin
 g adult services as they transition out of the education system. \n\nJoin 
 us for a “Meet the Support Coordination Agencies” event to meet the agenci
 es currently servicing Essex County to make the best choice for your futur
 e and family. A light dinner will be served.
DTSTART;TZID=America/New_York:20150318T180000
DTEND;TZID=America/New_York:20150318T200000
LOCATION:Opportunity Zone CRC\, 58 Burnett Avenue\, Maplewood\, 07040
SUMMARY:The Arc of Essex: Empowering Families During their Graduation  Tran
 sition and Care Coordination Journey
END:VEVENT
END:VCALENDAR
