BEGIN:VCALENDAR
VERSION:2.0
PRODID:-//www.thearcfamilyinstitute.org//NONSGML kigkonsult.se iCalcreator 
 2.30.10//
CALSCALE:GREGORIAN
METHOD:PUBLISH
UID:469cdd68-fa1d-47b5-bf23-9048d8e09244
X-WR-CALDESC:As of January 2013\, all individuals seeking to or receiving s
 ervices from the NJ Division of Developmental Disabilities (DDD) must be M
 edicaid eligible and maintain that eligibility for life. Join us for this 
 informative event to learn how to become and maintain Medicaid eligibility
 \, how to navigate the Medicaid system\, and what services your loved one 
 with a developmental disability may be eligible for through Medicaid.  \n
 \nGuest Speakers\nJoseph Amoroso\, NJ Division of Disability Services\, Di
 rector\nBeverly Roberts\, The Arc of New Jersey\, Director\, Mainstreaming
  Medical Care Program\n\nDr. Dawn Apgar\, Deputy Commissioner of the New J
 ersey Department of Human Services will be available to answer questions. 
 \n
X-WR-RELCALID:3d3ef05311623f3f67423740b48c1b0c
X-WR-TIMEZONE:America/New_York
BEGIN:VTIMEZONE
TZID:America/New_York
BEGIN:STANDARD
TZNAME:EST
DTSTART:20141102T020000
TZOFFSETFROM:-0400
TZOFFSETTO:-0500
RDATE:20151101T020000
END:STANDARD
BEGIN:DAYLIGHT
TZNAME:EDT
DTSTART:20150308T020000
TZOFFSETFROM:-0500
TZOFFSETTO:-0400
RDATE:20160313T020000
END:DAYLIGHT
END:VTIMEZONE
BEGIN:VEVENT
UID:f03e036d-e289-46a6-af98-c2b8e1f2a23d
DTSTAMP:20260425T202556Z
DESCRIPTION:As of January 2013\, all individuals seeking to or receiving se
 rvices from the NJ Division of Developmental Disabilities (DDD) must be Me
 dicaid eligible and maintain that eligibility for life. Join us for this i
 nformative event to learn how to become and maintain Medicaid eligibility\
 , how to navigate the Medicaid system\, and what services your loved one w
 ith a developmental disability may be eligible for through Medicaid.  \n\n
 Guest Speakers\nJoseph Amoroso\, NJ Division of Disability Services\, Dire
 ctor\nBeverly Roberts\, The Arc of New Jersey\, Director\, Mainstreaming M
 edical Care Program\n\nDr. Dawn Apgar\, Deputy Commissioner of the New Jer
 sey Department of Human Services will be available to answer questions. \n
DTSTART;TZID=America/New_York:20150314T093000
DTEND;TZID=America/New_York:20150314T133000
LOCATION:North Hunterdon Regional High School\, Theater\, 1445 State Route 
 31\, Annandale\, NJ 08801
SUMMARY:Medicaid and the Important Role It Plays for  Individuals with Deve
 lopmental Disabilities
END:VEVENT
END:VCALENDAR
