BEGIN:VCALENDAR
VERSION:2.0
PRODID:-//www.thearcfamilyinstitute.org//NONSGML kigkonsult.se iCalcreator 
 2.30.10//
CALSCALE:GREGORIAN
METHOD:PUBLISH
UID:56b42eb3-84b1-496a-b6f4-ad9854806e28
X-WR-CALDESC:
X-WR-RELCALID:c976555c24186dd308515c285d488dee
X-WR-TIMEZONE:America/New_York
BEGIN:VTIMEZONE
TZID:America/New_York
BEGIN:STANDARD
TZNAME:EST
DTSTART:20141102T020000
TZOFFSETFROM:-0400
TZOFFSETTO:-0500
RDATE:20151101T020000
END:STANDARD
BEGIN:DAYLIGHT
TZNAME:EDT
DTSTART:20140309T020000
TZOFFSETFROM:-0500
TZOFFSETTO:-0400
RDATE:20150308T020000
RDATE:20160313T020000
END:DAYLIGHT
END:VTIMEZONE
BEGIN:VEVENT
UID:c2f09aa3-725f-4a04-8940-faa71853f828
DTSTAMP:20260425T202613Z
DESCRIPTION:
DTSTART;TZID=America/New_York:20150304T180000
DTEND;TZID=America/New_York:20150304T190000
LOCATION:
SUMMARY:La Maximización de Servicios y Apoyos Durante los Años de Transició
 n de la Escuela a la Vida Adulta ( Spanish Webinar)
END:VEVENT
END:VCALENDAR
