BEGIN:VCALENDAR
VERSION:2.0
PRODID:-//www.thearcfamilyinstitute.org//NONSGML kigkonsult.se iCalcreator 
 2.30.10//
CALSCALE:GREGORIAN
METHOD:PUBLISH
UID:a8675049-a065-4f3b-9ea4-685c94b4b161
X-WR-CALDESC:Hosted by the Autism Society of South West New Jersey Chapter 
 and Future4All\, this information session will feature The Arc of New Jers
 ey's Executive Director Thomas Baffuto as a guest speaker.
X-WR-RELCALID:f546c545296e1b936f5f86a446a32615
X-WR-TIMEZONE:America/New_York
BEGIN:VTIMEZONE
TZID:America/New_York
BEGIN:STANDARD
TZNAME:EST
DTSTART:20141102T020000
TZOFFSETFROM:-0400
TZOFFSETTO:-0500
RDATE:20151101T020000
END:STANDARD
BEGIN:DAYLIGHT
TZNAME:EDT
DTSTART:20140309T020000
TZOFFSETFROM:-0500
TZOFFSETTO:-0400
RDATE:20150308T020000
RDATE:20160313T020000
END:DAYLIGHT
END:VTIMEZONE
BEGIN:VEVENT
UID:0f5a9844-c1be-41b6-b386-07905a6f5f3f
DTSTAMP:20260425T213049Z
DESCRIPTION:Hosted by the Autism Society of South West New Jersey Chapter a
 nd Future4All\, this information session will feature The Arc of New Jerse
 y's Executive Director Thomas Baffuto as a guest speaker.
DTSTART;TZID=America/New_York:20150223T180000
DTEND;TZID=America/New_York:20150223T203000
LOCATION:Burlington County Library\, 5 Pioneer Boulevard Westampton\, NJ
SUMMARY:Speaking Engagement in South Jersey
END:VEVENT
END:VCALENDAR
