BEGIN:VCALENDAR
VERSION:2.0
PRODID:-//www.thearcfamilyinstitute.org//NONSGML kigkonsult.se iCalcreator 
 2.30.10//
CALSCALE:GREGORIAN
METHOD:PUBLISH
UID:9a2821bb-b82b-48bd-9aa2-5e520c45df18
X-WR-CALDESC:When parents of adolescent and adult children with development
 al disabilities think about retirement\, it is important to understand the
  role that Social Security benefits can and should play in your overall re
 tirement plan. This free webinar is intended specifically for parents of c
 hildren with I/DD to explain their Social Security benefits and how to cre
 ate a 'mySocialSecurity' account. \n\nJoin guest speaker David Vinokurov\,
  Social Security Administration District Manager\, for this informative we
 binar.\n\nPresented by The Arc of New Jersey Family Institute and the Main
 streaming Medical Care Program of The Arc of New Jersey. After registering
 \, you will receive a confirmation email containing information about join
 ing the webinar.
X-WR-RELCALID:f485b0c82580f1e68f7dfd8af89dec01
X-WR-TIMEZONE:America/New_York
BEGIN:VTIMEZONE
TZID:America/New_York
BEGIN:STANDARD
TZNAME:EST
DTSTART:20141102T020000
TZOFFSETFROM:-0400
TZOFFSETTO:-0500
RDATE:20151101T020000
END:STANDARD
BEGIN:DAYLIGHT
TZNAME:EDT
DTSTART:20140309T020000
TZOFFSETFROM:-0500
TZOFFSETTO:-0400
RDATE:20150308T020000
RDATE:20160313T020000
END:DAYLIGHT
END:VTIMEZONE
BEGIN:VEVENT
UID:e185cb04-a31f-4cf9-a96b-4ea4acc8d000
DTSTAMP:20260425T213948Z
DESCRIPTION:When parents of adolescent and adult children with developmenta
 l disabilities think about retirement\, it is important to understand the 
 role that Social Security benefits can and should play in your overall ret
 irement plan. This free webinar is intended specifically for parents of ch
 ildren with I/DD to explain their Social Security benefits and how to crea
 te a 'mySocialSecurity' account. \n\nJoin guest speaker David Vinokurov\, 
 Social Security Administration District Manager\, for this informative web
 inar.\n\nPresented by The Arc of New Jersey Family Institute and the Mains
 treaming Medical Care Program of The Arc of New Jersey. After registering\
 , you will receive a confirmation email containing information about joini
 ng the webinar.
DTSTART;TZID=America/New_York:20150211T100000
DTEND;TZID=America/New_York:20150211T110000
LOCATION:
SUMMARY:Webinar: Understanding Your Social Security Retirement Benefits: Fo
 r Parents of Individuals with I/DD
END:VEVENT
END:VCALENDAR
