BEGIN:VCALENDAR
VERSION:2.0
PRODID:-//www.thearcfamilyinstitute.org//NONSGML kigkonsult.se iCalcreator 
 2.30.10//
CALSCALE:GREGORIAN
METHOD:PUBLISH
UID:675e810b-6cf9-401f-b152-743bff4f68a2
X-WR-CALDESC:Presentado por Hinkle\, Fingles & Prior\, Attorneys at Law\, y
  organizada por The Arc of New Jersey Family Institute y el Planning For A
 dult Life Program\, este seminario web discutirá lo que las familias neces
 itan saber acerca de la variedad completa de opciones de colocación para e
 ducación especial. \n\nLos distritos escolares y otras agencias educativas
  son responsables de asegurar que una variedad completa de opciones de col
 ocación están disponibles para satisfacer las necesidades de los estudiant
 es con discapacidades. El entendimiento de las obligaciones del distrito e
 scolar en este sentido es esencial para asegurar que los estudiantes recib
 an los servicios que necesitan en el ambiente menos restrictivo.
X-WR-RELCALID:a886093a739021fb11912950f1e66d52
X-WR-TIMEZONE:America/New_York
BEGIN:VTIMEZONE
TZID:America/New_York
BEGIN:STANDARD
TZNAME:EST
DTSTART:20141102T020000
TZOFFSETFROM:-0400
TZOFFSETTO:-0500
RDATE:20151101T020000
END:STANDARD
BEGIN:DAYLIGHT
TZNAME:EDT
DTSTART:20140309T020000
TZOFFSETFROM:-0500
TZOFFSETTO:-0400
RDATE:20150308T020000
RDATE:20160313T020000
END:DAYLIGHT
END:VTIMEZONE
BEGIN:VEVENT
UID:55c72327-f420-49e0-a769-e771f0b14e51
DTSTAMP:20260425T214153Z
DESCRIPTION:Presentado por Hinkle\, Fingles & Prior\, Attorneys at Law\, y 
 organizada por The Arc of New Jersey Family Institute y el Planning For Ad
 ult Life Program\, este seminario web discutirá lo que las familias necesi
 tan saber acerca de la variedad completa de opciones de colocación para ed
 ucación especial. \n\nLos distritos escolares y otras agencias educativas 
 son responsables de asegurar que una variedad completa de opciones de colo
 cación están disponibles para satisfacer las necesidades de los estudiante
 s con discapacidades. El entendimiento de las obligaciones del distrito es
 colar en este sentido es esencial para asegurar que los estudiantes reciba
 n los servicios que necesitan en el ambiente menos restrictivo.
DTSTART;TZID=America/New_York:20150204T180000
DTEND;TZID=America/New_York:20150204T193000
LOCATION:
SUMMARY:Webinar: El Comprender y Acceso a los Opciones de Colocación para E
 ducación Especial: Lo que los Padres Deben Saber
END:VEVENT
END:VCALENDAR
